BEGIN:VCALENDAR
VERSION:2.0
PRODID:-//Highwaycafe Haus 111 - ECPv6.15.20//NONSGML v1.0//EN
CALSCALE:GREGORIAN
METHOD:PUBLISH
X-WR-CALNAME:Highwaycafe Haus 111
X-ORIGINAL-URL:https://haus111.de
X-WR-CALDESC:Veranstaltungen für Highwaycafe Haus 111
REFRESH-INTERVAL;VALUE=DURATION:PT1H
X-Robots-Tag:noindex
X-PUBLISHED-TTL:PT1H
BEGIN:VTIMEZONE
TZID:Europe/Berlin
BEGIN:DAYLIGHT
TZOFFSETFROM:+0100
TZOFFSETTO:+0200
TZNAME:CEST
DTSTART:20250330T010000
END:DAYLIGHT
BEGIN:STANDARD
TZOFFSETFROM:+0200
TZOFFSETTO:+0100
TZNAME:CET
DTSTART:20251026T010000
END:STANDARD
BEGIN:DAYLIGHT
TZOFFSETFROM:+0100
TZOFFSETTO:+0200
TZNAME:CEST
DTSTART:20260329T010000
END:DAYLIGHT
BEGIN:STANDARD
TZOFFSETFROM:+0200
TZOFFSETTO:+0100
TZNAME:CET
DTSTART:20261025T010000
END:STANDARD
BEGIN:DAYLIGHT
TZOFFSETFROM:+0100
TZOFFSETTO:+0200
TZNAME:CEST
DTSTART:20270328T010000
END:DAYLIGHT
BEGIN:STANDARD
TZOFFSETFROM:+0200
TZOFFSETTO:+0100
TZNAME:CET
DTSTART:20271031T010000
END:STANDARD
END:VTIMEZONE
BEGIN:VEVENT
DTSTART;TZID=Europe/Berlin:20261205T190000
DTEND;TZID=Europe/Berlin:20261205T233000
DTSTAMP:20260419T223024
CREATED:20230628T115558Z
LAST-MODIFIED:20260410T123136Z
UID:1792-1796497200-1796513400@haus111.de
SUMMARY:Jubilee
DESCRIPTION:Mehrstündiges Programm mit Titeln von altbekannten Größen wie Johnny Cash\, Waylon Jennings\, Alan Jackson und vielen mehr einstudiert. Die Freund an dieser Musik bewegt die erfahrenen Hobby Musiker dazu weiter zu machen.\nWer die gute alte live Country Musik vermisst wird mit jubilee sicherlich seine wahre Freude haben. \n 
URL:https://haus111.de/event/countryweihnacht-mit-jubilee/
END:VEVENT
BEGIN:VEVENT
DTSTART;TZID=Europe/Berlin:20261212T190000
DTEND;TZID=Europe/Berlin:20261212T233000
DTSTAMP:20260419T223024
CREATED:20260410T124147Z
LAST-MODIFIED:20260410T124205Z
UID:2879-1797102000-1797118200@haus111.de
SUMMARY:MASS
DESCRIPTION:MASS – Reloaded and back to the Music!\n\n\nDie Hard ’n‘ Heavy Rocker von MASS haben sich zurück ins Rampenlicht gekämpft. Angeführt vom unverwüstlichen Bassisten und einzig verbliebenen Gründungsmitglied Günther V. Radny haben sie eine neue Ära eingeläutet. \nIhr Comeback im Jahr 2017 markierte den Beginn eines neuen Kapitels für die Band. Gesundheitliche Gründe verhinderten die Rückkehr der klassischen Besetzung\, daher stellte Günther V. Radny ein neues Line-Up vor\, bestehend aus Matthias „Wauxl“ Pfaller am Gesang\, Hannes Heid an der Gitarre und Andi Gmeinwieser am Schlagzeug. Mit Clemens Matejka an den Keyboards erfüllte er sich zudem den lang gehegten Wunsch\, den Sound der Band weiterzuentwickeln. \nMit einem weltweiten Plattenvertrag bei Pride&Joy Music unterzeichnete die Band Ende 2018 die Vereinbarung für ihr langersehntes und von Fans und Kritikern gleichermaßen gelobtes Album „Still Chained“. Seitdem haben MASS die Bühnen der größten Festivals erobert\, darunter die Pyraser Classic Rock Night\, das Storm Crusher Festival oder das Hard Summer Festival. Sie teilten sich die Bühne mit Größen wie Saxon\, Michael Schenker und Uli Jon Roth\, was ihre Rückkehr zu einem unvergesslichen Erlebnis machte. \nDie Geschichte von MASS ist ein Reise voller Höhen und Tiefen. 1973 gegründet\, spielte die Band in ihren Glanzzeiten bis zu 180 Konzerte jährlich in ganz Europa. Mit über 200.000 verkauften Alben und Platzierungen in den Top-Charts der 80er Jahre galt MASS als eine der führenden deutschen Metal-Bands\, gleich hinter Größen wie den Scorpions\, ACCEPT und Warlock. Trotz ihres Erfolgs führte der belastende Rock ’n‘ Roll Lifestyle jedes Bandmitglieds letztlich zur Trennung im Jahr 1987.\n \nIhre Rückkehr hat nicht nur die Fans begeistert\, sondern auch gezeigt\, dass ihre Musik und ihr Vermächtnis zeitlos sind. \n50 Jahre nach Gründung bleibt eines unverändert und so gilt wie am ersten Tag deren erstes Gebot und oberste Maxime: \n„MASS spielt nur für das Publikum – Hardrock total!“
URL:https://haus111.de/event/mass-2/
END:VEVENT
END:VCALENDAR