BEGIN:VCALENDAR
VERSION:2.0
PRODID:-//Highwaycafe Haus 111 - ECPv6.15.20//NONSGML v1.0//EN
CALSCALE:GREGORIAN
METHOD:PUBLISH
X-WR-CALNAME:Highwaycafe Haus 111
X-ORIGINAL-URL:https://haus111.de
X-WR-CALDESC:Veranstaltungen für Highwaycafe Haus 111
REFRESH-INTERVAL;VALUE=DURATION:PT1H
X-Robots-Tag:noindex
X-PUBLISHED-TTL:PT1H
BEGIN:VTIMEZONE
TZID:Europe/Berlin
BEGIN:DAYLIGHT
TZOFFSETFROM:+0100
TZOFFSETTO:+0200
TZNAME:CEST
DTSTART:20250330T010000
END:DAYLIGHT
BEGIN:STANDARD
TZOFFSETFROM:+0200
TZOFFSETTO:+0100
TZNAME:CET
DTSTART:20251026T010000
END:STANDARD
BEGIN:DAYLIGHT
TZOFFSETFROM:+0100
TZOFFSETTO:+0200
TZNAME:CEST
DTSTART:20260329T010000
END:DAYLIGHT
BEGIN:STANDARD
TZOFFSETFROM:+0200
TZOFFSETTO:+0100
TZNAME:CET
DTSTART:20261025T010000
END:STANDARD
BEGIN:DAYLIGHT
TZOFFSETFROM:+0100
TZOFFSETTO:+0200
TZNAME:CEST
DTSTART:20270328T010000
END:DAYLIGHT
BEGIN:STANDARD
TZOFFSETFROM:+0200
TZOFFSETTO:+0100
TZNAME:CET
DTSTART:20271031T010000
END:STANDARD
END:VTIMEZONE
BEGIN:VEVENT
DTSTART;TZID=Europe/Berlin:20261002T190000
DTEND;TZID=Europe/Berlin:20261002T235900
DTSTAMP:20260419T190146
CREATED:20240525T171502Z
LAST-MODIFIED:20260410T121257Z
UID:1898-1790967600-1790985540@haus111.de
SUMMARY:MIDLIFE CRISIS LTD
DESCRIPTION:  \nMIDLIFE CRISIS LTD ist eine der renommiertesten Oldie-Bands Ostbayerns. Die 5-köpfige Gruppe spielt “absolut live” das Beste aus den 60er\, 70er und 80er Jahren\, gerne auch unplugged. \nSongs u. a. von den Beatles\, Rolling Stones\, Creedence Clearwater Revival\, Monkees\, Beach Boys\, Doors\, Spencer Davis Group\, Turtles\, Troggs\, Lovin Spoonfull\, Shocking Blue\, Manfred Mann\, Albert Hammond\, Wilson Pickett\, Commitments\, Thin Lizzy\, Chuck Berry\, Jerry Lee Lewis\, John Miles\, Status Quo\, Eric Clapton\, Jethro Tull\, T.Rex\, Deep Purple\, Free\, Golden Earring\, Dire Straits\, Fleetwood Mac\, Joe Cocker\, ELO\, The Sweet\, Bryan Adams\, Pink Floyd\, Queen\, Simple Minds\, Midnight Oil\, Pretenders\, Man at Work\, Steve Miller Band\, Chris Rea\, Bruce Springsteen\, Lynyrd Skynyrd\, Steppenwolf\, Scorpions\, Van Morrison\, ZZ Top\, werden originalgetreu dargeboten und von vier Leadsängern\, sowie mit mehrstimmigen Satzgesängen präsentiert. \nEinen überregional hervorragenden Ruf hat sich die Regensburger Band in den letzten Jahren bei vielen Oldie-Nights in ganz Deutschland mit nationalen und internationalen Bands wie z. B. SWEET\, SLADE\, SUZIE QUATRO\, SPENCER DAVIS GROUP\, RATTLES\, EQUALS\, MIDDLE OF THE ROAD\, KIM WILDE\, THE LORDS erspielt.
URL:https://haus111.de/event/midlife-crisis-ltd-4/
END:VEVENT
BEGIN:VEVENT
DTSTART;TZID=Europe/Berlin:20261010T190000
DTEND;TZID=Europe/Berlin:20261010T235900
DTSTAMP:20260419T190146
CREATED:20231209T063848Z
LAST-MODIFIED:20260410T121339Z
UID:1818-1791658800-1791676740@haus111.de
SUMMARY:Tscheky & the Blues Kings
DESCRIPTION: Fetter Texas Blues gepaart mit Rock´n´Roll – eine Verschmelzung aus dem Rohr der \n„New Generation“ des German Blues.  \n  \n  \nDas gibt es – in den Südstaaten Deutschlands\, genauer im Chiemgau. \nWas die Jungs vor über einem Jahrzehnt als junge Wilde begonnen haben\, ist mittlerweile zu einem echten Blues-Hurricane mit einer geladenen Portion Rock´n´Roll geworden. \n  \nMichael „Tscheky“ Sedlatschek (Jahrgang 1998)\, Bandleader\, Leadgitarrist und Sänger hatte im Alter von 6 Jahren das wohl einschneidenste Musikerlebnis\, als er auf Papas VHS-Kassette Stevie Ray Vaughan 1984 im Rockpalast / Loreley gesehen hatte – Stevie ließ ihn seither nie mehr los. \n2011 gründete er zusammen mit Christoph Voggesser an der Rhythmusgitarre und Bluesharp die Band „Tscheky & The Blues Kings“. \nIn die Piano-Tasten hämmert Andreas Schatz\, welcher den Sound der Band mit Boogie-Einflüssen und Orgelsound besiegelt. \nFür den nötigen Groove am Fender-Bass sorgt Markus Rehrl\, welcher sich mit Elija von Le Suire am Schlagzeug zur perfekten Rhythm-Section vereint. Definitiv „bad to the bone“! \n  \nWas macht diese Band also so besonders? Man könnte meinen\, der Blues in seinen unterschiedlichen Ausprägungen ist wie ein verstaubtes Buch im Regal – weit gefehlt! Eben genau durch die energiegeladene und authentische Darbietung der Band ziehen die Jungs Jung und Alt in ihren Bann. So kann es schon passieren\, dass junge Teenager plötzlich sagen: „Ich wusste gar nicht\, dass diese Musik einen so packt! Normalerweise höre ich ja so was nicht\, aber das ist schon abgefahren!“ \n  \nDas Geheimnis ist sicher auch\, dass Tscheky & The Blues Kings ihre Vorbilder huldigen und mit Stolz einen eigenen Stempel aufdrücken. Zusammen mit eigenen Songs wird eine Show der Band dann zu einem richtigen „Louisiana Gumbo“! \n  \nBesonders stolz sind Tscheky & The Blues Kings auf ihre Errungenschaften. \nDazu gehört\, dass Tscheky 2012 Jimmie Vaughan Backstage traf und dieser seine Gitarre mit Widmung signierte. Auch vom Backstage-Treffen mit Kenny Wayne Shepherd wird er noch lange schwärmen! \n  \nDass die Band 2023 in der BR-Abendschau aufgetreten ist und interviewt wurde\, ebenso im Sommer 2023 „Band des Monats“ bei Bayern 2 wurde\, unterstreicht vielleicht sogar einen kleinen „Blues-Hype“ in Deutschland. \nIn den letzten Jahren performten die Jungs in Deutschland\, Österreich und der Schweiz auf Bühnen mit internationalen Ikonen\, welche mittlerweile teilweise zu Weggefährten wurden – sei es Bernard Allison (USA)\, Kai Strauss & The Electric Blues Allstars (D)\, die Mojo Blues Band (A)\, The Bluesbones (B)\, The Bluesanovas (D) und vielen mehr. \n  \nEine unbezahlbare Erfahrung war auch\, als Tscheky 2023 durch die US-Südstaaten pilgerte und auch hier mit zahlreichen Musikern in den Mekkas der amerikanischen Musik die Bühnen teilte. Sessions in Memphis (Tennessee)\, Clarksdale (Mississippi) und Dallas (Texas) haben das Feuer nur noch viel stärker zum Lodern gebracht! \n  \n2016 veröffentlichten Tscheky & The Blues Kings ihr Debütalbum „Hit The Ground Running“. \n2021 folgte das Album „Men Of Blues“. 2024 wird eine neue Single erscheinen und weitere EP´s und Alben werden folgen. \n  \nJetzt wurde viel über diesen „Blues-Hurricane“ gesprochen\, eine Show live spricht Bände! Watch out – Tscheky & The Blues Kings are in town! \n 
URL:https://haus111.de/event/tscheky-the-blues-kings/
END:VEVENT
BEGIN:VEVENT
DTSTART;TZID=Europe/Berlin:20261016T190000
DTEND;TZID=Europe/Berlin:20261016T233000
DTSTAMP:20260419T190146
CREATED:20260410T121424Z
LAST-MODIFIED:20260410T121424Z
UID:2867-1792177200-1792193400@haus111.de
SUMMARY:Soul Ticket
DESCRIPTION:Infos folgen
URL:https://haus111.de/event/soul-ticket/
END:VEVENT
BEGIN:VEVENT
DTSTART;TZID=Europe/Berlin:20261017T190000
DTEND;TZID=Europe/Berlin:20261017T233000
DTSTAMP:20260419T190146
CREATED:20250821T090924Z
LAST-MODIFIED:20250821T090924Z
UID:2245-1792263600-1792279800@haus111.de
SUMMARY:Peppermans Friend / A Tribute to the Red Hot Chili Peppers
DESCRIPTION:Peppermans Friend / A Tribute to the Red Hot Chili Peppers \nWer kennt Sie nicht\, die Funk-Rock Superband aus Kalifornien? Die mehrfachen Grammy Gewinner haben seit ihrer Gründung 1983 über 80 Millionen Tonträger verkauft und füllen regelmäßig ganze Stadien. \nPeppermans Friend bringt seit über 15 Jahren den Spirit der Red Hot Chili Peppers originalgetreu mit viel Energie und Spielfreude auf die Bühne und hinterlässt nach jedem Gig ein begeistertes Publikum. \nDie Setlist der Band lässt kaum Wünsche offen\, angefangen von alten Funk-Rock Songs bis zu bekannten Radio Hits wie z.B. Under the Bridge\, Can’t Stop oder Snow ist alles dabei. \nNicht umsonst zählt Peppermans Friend zu den besten RHCP Tribute Bands Europas. \nSo come on\, funky brothers and sisters\, pull your socks up – the Chilis are coming. \n 
URL:https://haus111.de/event/peppermans-friend-a-tribute-to-the-red-hot-chili-peppers/
END:VEVENT
BEGIN:VEVENT
DTSTART;TZID=Europe/Berlin:20261024T193000
DTEND;TZID=Europe/Berlin:20261024T233000
DTSTAMP:20260419T190146
CREATED:20221213T084807Z
LAST-MODIFIED:20260410T121502Z
UID:1697-1792870200-1792884600@haus111.de
SUMMARY:TIMERUNNER - Rockgiganten Live on Stage!
DESCRIPTION:TIMERUNNER sind ein Garant für fantastische Stimmung\, begeistertes Publikum und einfach geile Rockparty! Seit über 15 Jahren bringen die fünf Jungs von TIMERUNNER aus München eine energiegeladene Bühnenshow\, einmalige Musikauswahl und sympathische Ausstrahlung auf jede Bühne. Mit weit über 200 Live-Auftritten haben sie sich in den letzten Jahren die Herzen zahlloser treuer Fans und in die Oberliga süddeutscher Live-Bands gespielt. Wie keine andere Tribute Band interpretieren TIMERUNNER die Mega-Hits von Bands wie QUEEN und TOTO genauso überzeugend und authentisch wie Gassenhauer von AC/DC und andere Juwelen der ganz Großen der Rockgeschichte von BON JOVI über GUNS N’ROSES\, RAMMSTEIN\, EUROPE bis zu STATUS QUO und noch viel weiter! LET THERE BE ROCK! \n 
URL:https://haus111.de/event/timerunner-rockgiganten-live-on-stage/
END:VEVENT
BEGIN:VEVENT
DTSTART;TZID=Europe/Berlin:20261031T190000
DTEND;TZID=Europe/Berlin:20261031T233000
DTSTAMP:20260419T190146
CREATED:20260410T121747Z
LAST-MODIFIED:20260410T121747Z
UID:2869-1793473200-1793489400@haus111.de
SUMMARY:Halloween Party
DESCRIPTION:
URL:https://haus111.de/event/halloween-party/
END:VEVENT
END:VCALENDAR