BEGIN:VCALENDAR
VERSION:2.0
PRODID:-//Highwaycafe Haus 111 - ECPv6.15.20//NONSGML v1.0//EN
CALSCALE:GREGORIAN
METHOD:PUBLISH
X-WR-CALNAME:Highwaycafe Haus 111
X-ORIGINAL-URL:https://haus111.de
X-WR-CALDESC:Veranstaltungen für Highwaycafe Haus 111
REFRESH-INTERVAL;VALUE=DURATION:PT1H
X-Robots-Tag:noindex
X-PUBLISHED-TTL:PT1H
BEGIN:VTIMEZONE
TZID:Europe/Berlin
BEGIN:DAYLIGHT
TZOFFSETFROM:+0100
TZOFFSETTO:+0200
TZNAME:CEST
DTSTART:20250330T010000
END:DAYLIGHT
BEGIN:STANDARD
TZOFFSETFROM:+0200
TZOFFSETTO:+0100
TZNAME:CET
DTSTART:20251026T010000
END:STANDARD
BEGIN:DAYLIGHT
TZOFFSETFROM:+0100
TZOFFSETTO:+0200
TZNAME:CEST
DTSTART:20260329T010000
END:DAYLIGHT
BEGIN:STANDARD
TZOFFSETFROM:+0200
TZOFFSETTO:+0100
TZNAME:CET
DTSTART:20261025T010000
END:STANDARD
BEGIN:DAYLIGHT
TZOFFSETFROM:+0100
TZOFFSETTO:+0200
TZNAME:CEST
DTSTART:20270328T010000
END:DAYLIGHT
BEGIN:STANDARD
TZOFFSETFROM:+0200
TZOFFSETTO:+0100
TZNAME:CET
DTSTART:20271031T010000
END:STANDARD
END:VTIMEZONE
BEGIN:VEVENT
DTSTART;VALUE=DATE:20260808
DTEND;VALUE=DATE:20260809
DTSTAMP:20260419T155345
CREATED:20260410T121008Z
LAST-MODIFIED:20260410T121008Z
UID:2865-1786147200-1786233599@haus111.de
SUMMARY:Geschlossen
DESCRIPTION:
URL:https://haus111.de/event/geschlossen-13/
END:VEVENT
BEGIN:VEVENT
DTSTART;TZID=Europe/Berlin:20260814T180000
DTEND;TZID=Europe/Berlin:20260814T233000
DTSTAMP:20260419T155345
CREATED:20260325T173227Z
LAST-MODIFIED:20260325T173227Z
UID:2847-1786730400-1786750200@haus111.de
SUMMARY:Großes Hint im Hof Fest
DESCRIPTION:STAID AS QUO \n  \n  \n  \n  \nTHE MOTOR CITY MONKEY HUNTERS \n \n  \n  \n  \nGroßes Hint im Hof Fest mit zwei super Bands die schon seit Jahrzenten bei ins sind…. \n  \n  \n  \nSTAID AS QUO gründete sich im 2003 in Regensburg. Mit Wolfgang Haarer\, dem 100%igen Quo-Fan\, sowie Roman Baldauf und einem alten Bekannten aus Schülerbandtagen – Reinhard Hausler – hatte man schnell den Kern der Coverband zusammen. \nSTAID AS QUO spielt ihr umfangreiches Repertoire (bis zu drei Stunden) auf Firmenfesten\, Geburtstagsfeiern\, Stadtfesten\, Motorrad-Festivals und anderen Gelegenheiten. Die großen Hits ihrer englischen Vorbilder kommen dabei genauso zum Tragen\, wie Raritäten aus den 70er Jahren. \nSTAID AS QUO legt großen Wert auf orginalgetreue Darbiertung der einzelnen Songs und ist mit ihrer frischen und humorvollen Show ein wahrer Augenschmaus. \n  \nTHE MOTOR CITY MONKEY HUNTERS \npflügen seit gut 32 Jahren den Regensburger Untergrund\, dabei lassen sie den Rock der frühen Siebziger Jahre hoch leben.\nAus einer Bierlaune entstand dieser Ableger der Formation TANA NILE inklusive Sänger/Gitarrist Wolfgang Haarer (Midlife Crisis / 7 Sinalcos / The Boys).\nWer spielte schon Songs von THE SWEET\, T.REX\, SLADE etc. \,den Glamrock Heroen jener Zeit? Flugs wurden Schlaghosen\, grelle Hemden\, Pilotenbrillen und Plateauschuhe besorgt\, die Songs waren aus der frühen Jugend eh noch im Ohr.\nIm Laufe der Zeit erweiterte man das Repertoire\, so spannt man nun einen weiten Bogen von ABBA bis ZZ TOP (wahrscheinlich die meistgenannte Floskel von „Rock“-Coverbands…)\nDas gitarrenlastige Quartett trumpft bei Stadtfesten\, Privatfeten und Clubgigs derart authentisch auf\, dass nicht nur gestandenen Mitsiebzigern der Mund tropft\, auch die Kids entdecken den Rock‘ n Roll jener schrägen Zeit neu.\nUnd für alle die wiedermal einen denkwürdigen Abend inklusive Headbang-Schleudertrauma mit den Monkey Hunters verpasst haben\,\nintoniert die Viererbande als letzte Zugabe ein ungewohnt wohliges\n„Wish You Where Here“ zum Tränentupfen…
URL:https://haus111.de/event/grosses-hint-im-hof-fest/
END:VEVENT
BEGIN:VEVENT
DTSTART;TZID=Europe/Berlin:20260821T190000
DTEND;TZID=Europe/Berlin:20260821T233000
DTSTAMP:20260419T155345
CREATED:20240525T172003Z
LAST-MODIFIED:20260410T121125Z
UID:1910-1787338800-1787355000@haus111.de
SUMMARY:Mike Grabow & The Chili Bombs
DESCRIPTION:Über Mike Grabow & The Chili Bombs\n\n\n\n\n\n\nDer Singer-/Songwriter MIKE GRABOW (gebürtig aus Nevada/USA) lebt nun bereits seit dem Jahr 2008 in Mexiko (Playa del Carmen/Los Cabos)\, wo er ausschließlich mit Musik seinen Lebensunterhalt bestreitet. Mike`s geniale Stimme besticht durch sein enormes Stimmvolumen und erinnert an begnadete große Musiker wie Ray Charles\, Johnny Cash\, Zac Brown und Chris Stapelton. Nicht nur seinen eigenen Songs verleiht er einen ganz außergewöhnlichen Touch\, sondern auch jedem einzelnen Coversong. Egal ob Blues\, Country (-Rock)\, Rock`n`Roll\, Surf Pop ala Jack Johnson\, Rap/Hip Hop\, Classic-Rock und Reggae. Jeden Coversong macht er auf seine eigene spezielle Art zu einem großartigen Unikat mit viel Gefühl und karibischen Flair. Seine Musik\, sein Groove\, sowie seine kraftvolle als auch gefühlvolle Stimme fesseln einen förmlich und zieht das Publikum unmittelbar in seinem sympathischen Bann. Er versetzt einen bildlich an die Strände Mexikos\, wo man mit den Füßen im Sand\, einen Margarita in der Hand bei chilliger Musik den Sonnenuntergang genießt. Musikalisch unterstützt wird er von den „THE CHILI BOMBS“. Ein bunt zusammengewürfelter Haufen von namhaften Musikern aus Steinsberg/Regenstauf (Umland Regensburg). Drums – Michael Weigert E-Gitarre – Johannes Morgenschweiss Bass – Oliver Schmid Backing Vocals/Percussion – Tom Preißl 2024 tourt Mike mit seinen „Chili Bombs“ bereits zum fünften Mal in den bayrischen Gefilden und wer die Möglichkeit hat\, diese Band live zu sehen\, sollte das dringlichst tun. Ein Ohrenschmaus der speziellen Art ist garantiert.
URL:https://haus111.de/event/mike-grabow-the-chili-bombs/
END:VEVENT
END:VCALENDAR