BEGIN:VCALENDAR
VERSION:2.0
PRODID:-//Highwaycafe Haus 111 - ECPv6.15.20//NONSGML v1.0//EN
CALSCALE:GREGORIAN
METHOD:PUBLISH
X-WR-CALNAME:Highwaycafe Haus 111
X-ORIGINAL-URL:https://haus111.de
X-WR-CALDESC:Veranstaltungen für Highwaycafe Haus 111
REFRESH-INTERVAL;VALUE=DURATION:PT1H
X-Robots-Tag:noindex
X-PUBLISHED-TTL:PT1H
BEGIN:VTIMEZONE
TZID:Europe/Berlin
BEGIN:DAYLIGHT
TZOFFSETFROM:+0100
TZOFFSETTO:+0200
TZNAME:CEST
DTSTART:20240331T010000
END:DAYLIGHT
BEGIN:STANDARD
TZOFFSETFROM:+0200
TZOFFSETTO:+0100
TZNAME:CET
DTSTART:20241027T010000
END:STANDARD
BEGIN:DAYLIGHT
TZOFFSETFROM:+0100
TZOFFSETTO:+0200
TZNAME:CEST
DTSTART:20250330T010000
END:DAYLIGHT
BEGIN:STANDARD
TZOFFSETFROM:+0200
TZOFFSETTO:+0100
TZNAME:CET
DTSTART:20251026T010000
END:STANDARD
BEGIN:DAYLIGHT
TZOFFSETFROM:+0100
TZOFFSETTO:+0200
TZNAME:CEST
DTSTART:20260329T010000
END:DAYLIGHT
BEGIN:STANDARD
TZOFFSETFROM:+0200
TZOFFSETTO:+0100
TZNAME:CET
DTSTART:20261025T010000
END:STANDARD
END:VTIMEZONE
BEGIN:VEVENT
DTSTART;TZID=Europe/Berlin:20251004T190000
DTEND;TZID=Europe/Berlin:20251004T233000
DTSTAMP:20260419T151736
CREATED:20241018T170032Z
LAST-MODIFIED:20250110T201113Z
UID:2027-1759604400-1759620600@haus111.de
SUMMARY:Tainted Thunder
DESCRIPTION:4.10.2025 Tainted Thunder präsentiert die ultimativen Rock-Klassiker und bringt die unvergesslichen Hits der Rock-Geschichte auf die Bühne! Mit energiegeladenen Darbietungen von Bands wie Led Zeppelin\, AC/DC\, Queen und Guns N‘ Roses wird jedes Konzert zu einem mitreißenden Erlebnis. Die ergreifenden Melodien und kraftvollen Gitarrensoli garantieren eine authentische Reise durch die Goldenen Jahre des Rock. Jeder Auftritt lädt das Publikum ein\, gemeinsam zu feiern und in den zeitlosen Klängen der Rockmusik zu schwelgen!
URL:https://haus111.de/event/joe-oldman-band/
END:VEVENT
BEGIN:VEVENT
DTSTART;TZID=Europe/Berlin:20251011T190000
DTEND;TZID=Europe/Berlin:20251011T233000
DTSTAMP:20260419T151736
CREATED:20241028T162438Z
LAST-MODIFIED:20250810T091531Z
UID:2050-1760209200-1760225400@haus111.de
SUMMARY:Reason 2 Rock
DESCRIPTION:Der Bandname kommt nicht von ungefähr. Und er verspricht Lust aufs Abrocken. Ein Versprechen\, das die Band bei jedem Konzert aufs Neue hält. REASON 2 ROCK spielt nicht einfach Hard Rock. \nDie Musiker\nArmin Lindner (lead vocal & acoustic guitar)\nAmir Cehajic (guitars & backing vocals)\nRenato Parussini (guitars & backing vocals)\nHarry Bischof (drums)\nAlexander Ruby (bass & backing vocals) \nzelebrieren die Klassiker der Hard-Rock-Geschichte (Whitesnake\, Judas Priest\, AC/DC\, Deep Purple\, Rose Tattoo\, DIO\, Saxon\, Kiss u.v.m.) und machen auch vor den späteren Generationen dieses Genres nicht Halt (Gotthard\, Billy Idol\, Poison\, Metallica\, Guns ’n‘ Roses\, Van Halen\, Accept etc.). \nSie nehmen die Songs auseinander\, saugen sie in sich auf und leben sie dann in jedem einzelnen Akkord auf der Bühne. Ihre Leidenschaft explodiert mit druckvollem Sound in einer schweißtreibenden Show. Ein Konzert von REASON 2 ROCK setzt alle Energien frei und macht süchtig nach dem nächsten Mal! Die Frage ist allerdings\, ob die Band oder das Publikum die wahren Süchtigen sind. Wahrscheinlich beide gleichermaßen\, denn das ist die perfekte Kombination\, aus der ein unvergessliches Konzerterlebnis von REASON 2 ROCK gemacht ist. \n 
URL:https://haus111.de/event/reason-2-rock/
END:VEVENT
BEGIN:VEVENT
DTSTART;TZID=Europe/Berlin:20251016T190000
DTEND;TZID=Europe/Berlin:20251016T235900
DTSTAMP:20260419T151736
CREATED:20240525T171601Z
LAST-MODIFIED:20251012T154046Z
UID:1901-1760641200-1760659140@haus111.de
SUMMARY:Na Ciotogi
DESCRIPTION:Na Ciotogi \n \n  \n  \nMit zuckenden Füßen lauscht der Zuhörer den flotten Rhythmen der Slides\, Polkas\, Jigs\, Reels und den Liedern von Na Ciotogi. Ein gewisser Stolz\, Ire zu sein\, treibt die Leidenschaft\, die diese Musik so beliebt macht\, und es ist die Leidenschaft\, die hinter der Gruppe “Na Ciotogi” von der Grünen Insel steckt. Der Name “Na Ciotogi” (Keh-toh-geh) „die Linkshänder\,“ ist inzwischen für viele Freunde irischer Musik in Bayern ein fester Begriff. Die Freude und Kunstfertigkeit\, mit welcher “Na Ciotogi” ihre Musik spielen\, spiegelt sich in der Begeisterung der Zuhörer. \n  \nTraditionelle irische Musik direkt aus den Herzen und den Feuerstellen der vier Iren – so würde die Band sich selber beschreiben. Sie kommen aus verschiedenen Regionen Irlands und begeistern Ihr Publikum mit einem gesammelten musikalischen Schatz aus den letzten Jahrhunderten. Ihr musikalischer Stil ist meisterhaft\, traditionell und unverfälscht. Tony Mc Carthy aus Cork City spielt Querflöte\, Tin Whistles\, Bouzouki und Bodhran (irische Trommel). Dan O’Callaghan aus West Cork spielt Uilleann Pipes (irischer Dudelsack) und Tin Whistles. David McMahon aus Dublin wohnt seit einigen Jahren im Landkreis Landshut. Er spielt Akkordeon\, Concertina\, Mundharmonika und wird den Abend mit Anekdoten zur Lebensweise\, Kultur und Geschichte auf Irischbayrisch moderieren. Sein Sohn Sean McMahon spielt Geige und führt somit die Vater-Sohn Tradition angefangen mit Timmy und Tony McCarthy auf der Bühne fort. Die verschiedenen Erfahrungen und Lebenshintergründe der Mitglieder fließen hier zusammen und geben Na Ciotogi den einzigartigen Klang. \n  \nDen Besucher erwartet ein wunderbarer Abend mit traditioneller irischer Musik von lebhafter Tanzmusik über feurige Balladen bis zu den nachdenklichen “Slow Airs” und natürlich viele Witze\, Lebensfreude und spitzbübischer Spaß!
URL:https://haus111.de/event/na-ciotogi-4/
END:VEVENT
BEGIN:VEVENT
DTSTART;TZID=Europe/Berlin:20251024T190000
DTEND;TZID=Europe/Berlin:20251024T190000
DTSTAMP:20260419T151736
CREATED:20241028T163230Z
LAST-MODIFIED:20251022T153224Z
UID:2054-1761332400-1761332400@haus111.de
SUMMARY:ABGESAGT! Schlageranfall
DESCRIPTION:  \nEine stimmungsvolle Zeitreise durch die Welt des deutschen Schlagers – Das verspricht die Band „Schlageranfall“ den Gästen des Haus 111 in Wildthurn. Bestehend aus sechs Künstlerinnen und Künstlern\, bei denen der Spaß an der Musik im Vordergrund steht\, begeistert die Band Schlagerfans jeden Alters. Von „Ti amo“ bis „Warum hast du nicht nein gesagt“ – „Schlageranfall“ halten ein riesiges Repertoire an Titeln von den 60er-Jahren bis heute bereit\, bei denen jeder sofort mitsingen kann.
URL:https://haus111.de/event/schlageranfall/
END:VEVENT
BEGIN:VEVENT
DTSTART;TZID=Europe/Berlin:20251024T190000
DTEND;TZID=Europe/Berlin:20251024T233000
DTSTAMP:20260419T151736
CREATED:20251022T153517Z
LAST-MODIFIED:20251022T153517Z
UID:2311-1761332400-1761348600@haus111.de
SUMMARY:ROCK Party mit DJ Rockoustica
DESCRIPTION:
URL:https://haus111.de/event/rock-party-mit-dj-rockoustica/
END:VEVENT
BEGIN:VEVENT
DTSTART;TZID=Europe/Berlin:20251025T190000
DTEND;TZID=Europe/Berlin:20251025T190000
DTSTAMP:20260419T151736
CREATED:20221213T134741Z
LAST-MODIFIED:20241028T170026Z
UID:1713-1761418800-1761418800@haus111.de
SUMMARY:Rasticharma
DESCRIPTION:RASTICHARMA\neine Band aus Vilshofen\, erweckt mit seiner einzigartigen Mischung aus handgemachter authentischer elektrischer oder akustischer Musik den Geist der legendären Festivals von 1969-1970 zum Leben. Ralf\, Stiftl\, Charly und Martin sind die vier Mitglieder von RASTICHARMA. Der Name der Band wurde aus den ersten Buchstaben des Vornamens jedes Mitglieds gebildet. Gemeinsam vereinen die vier Rocker\, die allesamt Ende 50 sind\, ihre jahrzehntelange Erfahrung mit frischem Sound. Inspiriert von legendären Acts wie Eric Clapton\, ZZ-Top\, Eagles\, Jimi Hendrix\, Stones und Grateful Dead\, Neil Young\, Bob Dylan oder The Beatles\, spielen Rasticharma Hits\, die in die Geschichte der Festivalbühnen eingegangen sind.\n\n  \nRasticharma bringen legendäre Festival-Hits auf die Bühne \n  \nSie kombinieren dabei Elemente aus Rock\, Folk sowie Psychedelic und schaffen überall dort\, wo die vier Mannen auftreten\, eine magische Atmosphäre.  \nRasticharma sorgen mit ihrem „The Woodstock-Experience“ Festival-Gig für ein unvergessliches Erlebnis!
URL:https://haus111.de/event/rasticharma-st-patricks-day/
END:VEVENT
BEGIN:VEVENT
DTSTART;TZID=Europe/Berlin:20251031T190000
DTEND;TZID=Europe/Berlin:20251031T190000
DTSTAMP:20260419T151736
CREATED:20220918T090912Z
LAST-MODIFIED:20250810T092428Z
UID:1642-1761937200-1761937200@haus111.de
SUMMARY:Halloween mit The MotorCity Monkey Hunters
DESCRIPTION:THE MOTOR CITY MONKEY HUNTERS \npflügen seit gut 32 Jahren den Regensburger Untergrund\, dabei lassen sie den Rock der frühen Siebziger Jahre hoch leben.\nAus einer Bierlaune entstand dieser Ableger der Formation TANA NILE inklusive Sänger/Gitarrist Wolfgang Haarer  (Midlife Crisis / 7 Sinalcos / The Boys).\nWer spielte schon Songs von THE SWEET\, T.REX\, SLADE etc. \,den Glamrock Heroen jener Zeit? Flugs wurden Schlaghosen\, grelle Hemden\, Pilotenbrillen und Plateauschuhe besorgt\, die Songs waren aus der frühen Jugend eh noch im Ohr.\nIm Laufe der Zeit erweiterte man das Repertoire\, so spannt man nun einen weiten Bogen von ABBA bis ZZ TOP (wahrscheinlich die meistgenannte Floskel von „Rock“-Coverbands…)\nDas gitarrenlastige Quartett trumpft bei Stadtfesten\, Privatfeten und Clubgigs derart authentisch auf\, dass nicht nur gestandenen Mitsiebzigern der Mund tropft\, auch die Kids entdecken den Rock‘ n Roll jener schrägen Zeit neu.\nUnd für alle die wiedermal einen denkwürdigen Abend inklusive Headbang-Schleudertrauma mit den Monkey Hunters verpasst haben\,\nintoniert die Viererbande als letzte Zugabe ein ungewohnt wohliges\n„Wish You Where Here“ zum Tränentupfen… \n 
URL:https://haus111.de/event/halloween-mit-the-motorcity-monkey-hunters/
END:VEVENT
END:VCALENDAR