BEGIN:VCALENDAR
VERSION:2.0
PRODID:-//Highwaycafe Haus 111 - ECPv6.15.20//NONSGML v1.0//EN
CALSCALE:GREGORIAN
METHOD:PUBLISH
X-WR-CALNAME:Highwaycafe Haus 111
X-ORIGINAL-URL:https://haus111.de
X-WR-CALDESC:Veranstaltungen für Highwaycafe Haus 111
REFRESH-INTERVAL;VALUE=DURATION:PT1H
X-Robots-Tag:noindex
X-PUBLISHED-TTL:PT1H
BEGIN:VTIMEZONE
TZID:Europe/Berlin
BEGIN:DAYLIGHT
TZOFFSETFROM:+0100
TZOFFSETTO:+0200
TZNAME:CEST
DTSTART:20240331T010000
END:DAYLIGHT
BEGIN:STANDARD
TZOFFSETFROM:+0200
TZOFFSETTO:+0100
TZNAME:CET
DTSTART:20241027T010000
END:STANDARD
BEGIN:DAYLIGHT
TZOFFSETFROM:+0100
TZOFFSETTO:+0200
TZNAME:CEST
DTSTART:20250330T010000
END:DAYLIGHT
BEGIN:STANDARD
TZOFFSETFROM:+0200
TZOFFSETTO:+0100
TZNAME:CET
DTSTART:20251026T010000
END:STANDARD
BEGIN:DAYLIGHT
TZOFFSETFROM:+0100
TZOFFSETTO:+0200
TZNAME:CEST
DTSTART:20260329T010000
END:DAYLIGHT
BEGIN:STANDARD
TZOFFSETFROM:+0200
TZOFFSETTO:+0100
TZNAME:CET
DTSTART:20261025T010000
END:STANDARD
END:VTIMEZONE
BEGIN:VEVENT
DTSTART;TZID=Europe/Berlin:20250609T130000
DTEND;TZID=Europe/Berlin:20250609T130000
DTSTAMP:20260421T115206
CREATED:20250106T102122Z
LAST-MODIFIED:20250315T091805Z
UID:2107-1749474000-1749474000@haus111.de
SUMMARY:111er Band und PATCH WOLED
DESCRIPTION:Wer ist die 111er band?\nSchon im Jahr 2014 gegründet von Klaus und Karl\, mit Pause dazwischen da sie sich aufgelöst hat.\nIm Jahr 2022 wieder mit neuer Besetzung an den Start gegangen.\nGegründet von Klaus\, Karl und Heiner. \nUnd seit September wieder eine neue Mannschaft\, denn die 111er band stirbt nie. \nUnd wer sind die neuen?\nNeu kann man nicht wirklich sagen\, des es sind alt bekannte Gesicht\, aus anderen bands.\nCharly und Patrick bekannt aus Mad Guitar Murphy\, haben sich zu unserer Freunde der 111er band angeschlossen. \nGanz neu in der Band und auch auf der Bühne\, als Sängerin\, dürfen wir Katy vorstellen. \nUnd seit neuestem dürfen wir auch Armin in der 111er band begrüßen. \nDurch die Mischung von Erfahrung und frischen Wind\, erstrecken sich auch die Songs die sie zum besten geben. \nVon Rock bis Country\, von fetzig bis entspannend.\nAber am besten macht ihr euch selbst ein Bild von ihnen bzw lasst euren Ohren das Musikalische Zusammenspiel genießen. \n——-—-———————-——————– \nPATCH WOLED – ein kreativer Bandname indem sich vier Musiker vereint sehen. Mit Leidenschaft und Spaß werden Songs aus Folk\, Country\, Blues & Rock auch mehrstimmig präsentiert. Die Gitarristen Wolfgang und Ed ziehen mit Mandoline\, Banjo und Cigar Box Guitar die Zuhörer in ihren Bann\, wobei Patrick an den Drums und Charly am Bass das erdige Fundament stellen. \nDie Band entführt das Publikum auf eine einzigartige musikalische Zeitreise; also Let’s Rock!
URL:https://haus111.de/event/111er-band-2/
END:VEVENT
BEGIN:VEVENT
DTSTART;VALUE=DATE:20250627
DTEND;VALUE=DATE:20250703
DTSTAMP:20260421T115206
CREATED:20241003T090201Z
LAST-MODIFIED:20241003T090201Z
UID:1998-1750982400-1751500799@haus111.de
SUMMARY:Geschlossen wegen Landauer Volksfest
DESCRIPTION:
URL:https://haus111.de/event/geschlossen-wegen-landauer-volksfest/
END:VEVENT
END:VCALENDAR