BEGIN:VCALENDAR
VERSION:2.0
PRODID:-//Highwaycafe Haus 111 - ECPv6.15.20//NONSGML v1.0//EN
CALSCALE:GREGORIAN
METHOD:PUBLISH
X-WR-CALNAME:Highwaycafe Haus 111
X-ORIGINAL-URL:https://haus111.de
X-WR-CALDESC:Veranstaltungen für Highwaycafe Haus 111
REFRESH-INTERVAL;VALUE=DURATION:PT1H
X-Robots-Tag:noindex
X-PUBLISHED-TTL:PT1H
BEGIN:VTIMEZONE
TZID:Europe/Berlin
BEGIN:DAYLIGHT
TZOFFSETFROM:+0100
TZOFFSETTO:+0200
TZNAME:CEST
DTSTART:20240331T010000
END:DAYLIGHT
BEGIN:STANDARD
TZOFFSETFROM:+0200
TZOFFSETTO:+0100
TZNAME:CET
DTSTART:20241027T010000
END:STANDARD
BEGIN:DAYLIGHT
TZOFFSETFROM:+0100
TZOFFSETTO:+0200
TZNAME:CEST
DTSTART:20250330T010000
END:DAYLIGHT
BEGIN:STANDARD
TZOFFSETFROM:+0200
TZOFFSETTO:+0100
TZNAME:CET
DTSTART:20251026T010000
END:STANDARD
BEGIN:DAYLIGHT
TZOFFSETFROM:+0100
TZOFFSETTO:+0200
TZNAME:CEST
DTSTART:20260329T010000
END:DAYLIGHT
BEGIN:STANDARD
TZOFFSETFROM:+0200
TZOFFSETTO:+0100
TZNAME:CET
DTSTART:20261025T010000
END:STANDARD
END:VTIMEZONE
BEGIN:VEVENT
DTSTART;TZID=Europe/Berlin:20250404T190000
DTEND;TZID=Europe/Berlin:20250404T233000
DTSTAMP:20260421T144329
CREATED:20250315T090509Z
LAST-MODIFIED:20250315T090509Z
UID:2155-1743793200-1743809400@haus111.de
SUMMARY:GESCHLOSSEN
DESCRIPTION:Geschlossen
URL:https://haus111.de/event/geschlossen-11/
END:VEVENT
BEGIN:VEVENT
DTSTART;TZID=Europe/Berlin:20250405T180000
DTEND;TZID=Europe/Berlin:20250405T180000
DTSTAMP:20260421T144329
CREATED:20250106T101048Z
LAST-MODIFIED:20250106T101048Z
UID:2100-1743876000-1743876000@haus111.de
SUMMARY:GESCHLOSSEN!
DESCRIPTION:Geschlossen\, da in Landauer Bahnhof die SOS Party stattfindet und zeitgleich in Reisbach das Kneipen Festival. \nWir sehen uns dann dort. 😉
URL:https://haus111.de/event/geschlossen-10/
END:VEVENT
BEGIN:VEVENT
DTSTART;TZID=Europe/Berlin:20250425T190000
DTEND;TZID=Europe/Berlin:20250425T190000
DTSTAMP:20260421T144329
CREATED:20231209T063959Z
LAST-MODIFIED:20250110T185810Z
UID:1842-1745607600-1745607600@haus111.de
SUMMARY:OLD BONES
DESCRIPTION:  \nErleben Sie mit Old Bones ein breitgefächerten Repertoire an Country-Musik“ \nDie Live-Band aus Niederbayern wurde 2011 gegründet und ist seit vielen Jahren in der Country-Szene \nunterwegs. Die langjährige und vielseitige Bühnenerfahrung prägt das Programm der Old Bones. \nOb im Gesang oder in der Instrumentierung: \nOld Bones sind alles andere als “alte Knochen” sie stehen für hochklassige Musik und professionelles Entertainment. \nEine Band\, die mit Herzblut spielt und den Kontakt zu ihrem Publikum genießt. \nOld Bones freut sich auf euren Besuch.
URL:https://haus111.de/event/old-bones-2/
END:VEVENT
BEGIN:VEVENT
DTSTART;TZID=Europe/Berlin:20250426T190000
DTEND;TZID=Europe/Berlin:20250426T190000
DTSTAMP:20260421T144329
CREATED:20241028T164957Z
LAST-MODIFIED:20241028T164957Z
UID:2061-1745694000-1745694000@haus111.de
SUMMARY:GESCHLOSSEN wegen Privatfeier
DESCRIPTION:
URL:https://haus111.de/event/geschlossen-wegen-privatfeier-2/
END:VEVENT
BEGIN:VEVENT
DTSTART;TZID=Europe/Berlin:20250430T190000
DTEND;TZID=Europe/Berlin:20250430T190000
DTSTAMP:20260421T144329
CREATED:20250106T095206Z
LAST-MODIFIED:20250109T193645Z
UID:2095-1746039600-1746039600@haus111.de
SUMMARY:Acoustic Connection
DESCRIPTION:  \nDie in 2023 gegründete Band „Acoustic Connection“ gastiert am 30.April im Haus 111. Es handelt sich um eine Band mit\nerfahrenen\, routinierten Musikern aus dem Landkreis Dingolfing-Landau. Die fünfköpfige Gruppe intepretiert Songs aus allen Zeitepochen – mit einem Set aus Gesang\, Akustikgitarre\, Keyboard\, Bass\nund Cajon. Die Band besteht aus folgenden Musikern: Wolfgang Deistler (Gitarre\, Gesang)\, Tom Brunner (Kontrabass)\, Stefan Saumer (Keyboard)\, Alfred Steiner (Cajon) und Stephanie Niefanger (Gesang).\nBereits im letzten Jahr konnte die Band viele Fans mit ihren eigenen Interpretationen begeistern – der Besucherandrang war stets sehr groß. Ihr Programm behinhaltet unter anderem Songs von Sting\, Oasis\, The Beatles aber auch\nSailer&Speer und Bob Marley. \n 
URL:https://haus111.de/event/acoustic-connection/
END:VEVENT
END:VCALENDAR