BEGIN:VCALENDAR
VERSION:2.0
PRODID:-//Highwaycafe Haus 111 - ECPv6.15.20//NONSGML v1.0//EN
CALSCALE:GREGORIAN
METHOD:PUBLISH
X-WR-CALNAME:Highwaycafe Haus 111
X-ORIGINAL-URL:https://haus111.de
X-WR-CALDESC:Veranstaltungen für Highwaycafe Haus 111
REFRESH-INTERVAL;VALUE=DURATION:PT1H
X-Robots-Tag:noindex
X-PUBLISHED-TTL:PT1H
BEGIN:VTIMEZONE
TZID:Europe/Berlin
BEGIN:DAYLIGHT
TZOFFSETFROM:+0100
TZOFFSETTO:+0200
TZNAME:CEST
DTSTART:20240331T010000
END:DAYLIGHT
BEGIN:STANDARD
TZOFFSETFROM:+0200
TZOFFSETTO:+0100
TZNAME:CET
DTSTART:20241027T010000
END:STANDARD
BEGIN:DAYLIGHT
TZOFFSETFROM:+0100
TZOFFSETTO:+0200
TZNAME:CEST
DTSTART:20250330T010000
END:DAYLIGHT
BEGIN:STANDARD
TZOFFSETFROM:+0200
TZOFFSETTO:+0100
TZNAME:CET
DTSTART:20251026T010000
END:STANDARD
BEGIN:DAYLIGHT
TZOFFSETFROM:+0100
TZOFFSETTO:+0200
TZNAME:CEST
DTSTART:20260329T010000
END:DAYLIGHT
BEGIN:STANDARD
TZOFFSETFROM:+0200
TZOFFSETTO:+0100
TZNAME:CET
DTSTART:20261025T010000
END:STANDARD
END:VTIMEZONE
BEGIN:VEVENT
DTSTART;VALUE=DATE:20250301
DTEND;VALUE=DATE:20250305
DTSTAMP:20260423T103421
CREATED:20241003T082150Z
LAST-MODIFIED:20241003T082150Z
UID:1972-1740787200-1741132799@haus111.de
SUMMARY:Geschlossen wegen Fasching
DESCRIPTION:1.März bis 4.März
URL:https://haus111.de/event/geschlossen-wegen-fasching/
END:VEVENT
BEGIN:VEVENT
DTSTART;TZID=Europe/Berlin:20250308T193000
DTEND;TZID=Europe/Berlin:20250308T233000
DTSTAMP:20260423T103421
CREATED:20241003T082626Z
LAST-MODIFIED:20241003T082626Z
UID:1974-1741462200-1741476600@haus111.de
SUMMARY:Starkbierfest
DESCRIPTION:
URL:https://haus111.de/event/starkbierfest/
END:VEVENT
BEGIN:VEVENT
DTSTART;TZID=Europe/Berlin:20250315T190000
DTEND;TZID=Europe/Berlin:20250315T235900
DTSTAMP:20260423T103421
CREATED:20231209T063854Z
LAST-MODIFIED:20241028T164754Z
UID:1820-1742065200-1742083140@haus111.de
SUMMARY:STAID AS QUO
DESCRIPTION:Ladies and Gentlemen\, \nSTAID AS QUO ist eine reine Status Quo-Coverband\, deren dreistündiges Repertoire vorwiegend die Kultsongs der 70er Jahre\, aber auch einzelne Hits der letzten beiden Jahrzehnte beinhaltet.\nNeben altbekannten Krachern wie CAROLINE\, DOWN DOWN\, WHATEVER YOU WANT oder ROCKING ALL OVER THE WORLD werden auch rare Klassiker der Britischen Rocker zum Besten gegeben (siehe auch Rubrik Repertoire). \nAls Headliner und als Support-Band z. B. für die englische Rocklegende SLADE\, konnten STAID AS QUO in den letzten Jahren mühelos Konzertbesucher von Berlin über Goslar und Frankfurt bis in oberbayrische Gefilde überzeugen. \nSTAID AS QUO ist ein Garant für originalgetreue Darbietung und authentischen Sound Ihrer legendären Vorbilder und bieten die Gelegenheit für ausgelassene Groove-Orgien mit Luftgitarre. \nAlles klar? Also legs apart und Ohrenstöpsel nicht vergessen!!!
URL:https://haus111.de/event/staid-as-quo-2/
END:VEVENT
BEGIN:VEVENT
DTSTART;TZID=Europe/Berlin:20250315T193000
DTEND;TZID=Europe/Berlin:20250315T233000
DTSTAMP:20260423T103421
CREATED:20241003T082855Z
LAST-MODIFIED:20241003T082855Z
UID:1977-1742067000-1742081400@haus111.de
SUMMARY:Saint Patrick’s Day
DESCRIPTION:Happy St. Patrick’s Day hand drawn lettering vector illustration
URL:https://haus111.de/event/saint-patricks-day/
END:VEVENT
BEGIN:VEVENT
DTSTART;TZID=Europe/Berlin:20250322T193000
DTEND;TZID=Europe/Berlin:20250322T235900
DTSTAMP:20260423T103421
CREATED:20241003T083433Z
LAST-MODIFIED:20241003T083433Z
UID:1980-1742671800-1742687940@haus111.de
SUMMARY:TWO FACES
DESCRIPTION:Two faces\, 3 Stimmen\, 2 Gitarren\, 1 Kontrabass und Blues harp…acoustic Coverversionen ausgesuchter Songs aus dem Rock/Pop Bereich aber auch Evergreens und gute Laune Songs 🙂 optional auch als Duo buchbar. \n 
URL:https://haus111.de/event/two-faces/
END:VEVENT
END:VCALENDAR