BEGIN:VCALENDAR
VERSION:2.0
PRODID:-//Highwaycafe Haus 111 - ECPv6.15.20//NONSGML v1.0//EN
CALSCALE:GREGORIAN
METHOD:PUBLISH
X-WR-CALNAME:Highwaycafe Haus 111
X-ORIGINAL-URL:https://haus111.de
X-WR-CALDESC:Veranstaltungen für Highwaycafe Haus 111
REFRESH-INTERVAL;VALUE=DURATION:PT1H
X-Robots-Tag:noindex
X-PUBLISHED-TTL:PT1H
BEGIN:VTIMEZONE
TZID:Europe/Berlin
BEGIN:DAYLIGHT
TZOFFSETFROM:+0100
TZOFFSETTO:+0200
TZNAME:CEST
DTSTART:20230326T010000
END:DAYLIGHT
BEGIN:STANDARD
TZOFFSETFROM:+0200
TZOFFSETTO:+0100
TZNAME:CET
DTSTART:20231029T010000
END:STANDARD
BEGIN:DAYLIGHT
TZOFFSETFROM:+0100
TZOFFSETTO:+0200
TZNAME:CEST
DTSTART:20240331T010000
END:DAYLIGHT
BEGIN:STANDARD
TZOFFSETFROM:+0200
TZOFFSETTO:+0100
TZNAME:CET
DTSTART:20241027T010000
END:STANDARD
BEGIN:DAYLIGHT
TZOFFSETFROM:+0100
TZOFFSETTO:+0200
TZNAME:CEST
DTSTART:20250330T010000
END:DAYLIGHT
BEGIN:STANDARD
TZOFFSETFROM:+0200
TZOFFSETTO:+0100
TZNAME:CET
DTSTART:20251026T010000
END:STANDARD
END:VTIMEZONE
BEGIN:VEVENT
DTSTART;TZID=Europe/Berlin:20241116T193000
DTEND;TZID=Europe/Berlin:20241116T233000
DTSTAMP:20260425T170847
CREATED:20240525T173230Z
LAST-MODIFIED:20240525T173230Z
UID:1916-1731785400-1731799800@haus111.de
SUMMARY:Project7
DESCRIPTION:Project7 \nrocks your soul\n– eine erfrischende Mischung aus bodenständigen Rock-Klassikern und\nunvergessenen Rock-Juwelen – dargeboten von erfahrenen Musikern mit einer\nMenge (Spiel-) Freude für einen tollen Rockabend.\nEine Leadsängerin und vier Musiker in der klassischen Rock-Besetzung spielen\nSongs von Whitesnake und Journey\, den Doobie Brothers und Toto bis zu den Black\nCrows und Melissa Etheridge – um nur einige zu nennen. \n 
URL:https://haus111.de/event/project7/
END:VEVENT
BEGIN:VEVENT
DTSTART;TZID=Europe/Berlin:20241123T193000
DTEND;TZID=Europe/Berlin:20241123T235500
DTSTAMP:20260425T170847
CREATED:20220222T150352Z
LAST-MODIFIED:20240525T180413Z
UID:1566-1732390200-1732406100@haus111.de
SUMMARY:Blues Control
DESCRIPTION:Seit 2001 ist das Blues Rock Trio um Frontmann Christian Meidinger inzwischen auf den Bühnen unterwegs. Weit über die regionalen Bluesgrenzen hinaus hat die Band inzwischen ihre Fans begeistert und sich eine treue Fangemeinde erspielt. Meidinger mit seinem 100 %autodidaktischen Stil an der Gitarreist inzwischen seit über30 Jahren auf der Bühne und bringt zusammen mit Günter Tille am Bass und Andreas Gmeinwieser am Schlagzeug immer wieder einen ganz individuellen Touch in dieSongs. Bei dieser Besetzung besticht vor allem die Backline durch hervorragendes Timing\, Lockerheit und Spielfreude. Dadurch entsteht immer wieder eine prickelnde\, ja teilweise progressive Dynamik\, die das Fundament für den gesamten Bandsound bildet.Pünktlich zum 20-jährigen Bestehen arbeitet die Bandaktuell an ihrer 6.CD! Auch dieses mal werden wieder ausschließlich eigene Songs aufgenommen. Der Titel wird „Childhood Fantasy“ sein und man darf gespannt sein\, was sich die Band musikalisch alles einfallen lässt. Schon 2004 kam die erste CD „Blues `n` Trouble“ und bereits 2006 mit „Keep Cool“ erhielten die Drei sehr gute Kritiken. Zwischendurch legten die Niederbayern 2008 eine Live CD vor\, bei der kein Geringerer als Michael Vdelli persönlich einen Teil des Live Mitschnitts machte. In 2011 veröffentlichten sie mit „U Reap What U Sow“ ihre vierte CD\, erstmals mit ausschließlich eigenen Titeln.2016 zum 15-jährigen Bestehen veröffentlichte das Trio die 5.CD „Stories“\, ebenfalls nur mit eigenen Songs bestückt. Erstmals auch auf allen Download Plattformen erhältlich.Auch nach 20Jahren hat die Band nichts von ihrer Power verloren. Immer noch ziehen sie vor allem live alle Register in Sachen Blues und Rock und überzeugen das Publikum mit Ihrem ganz eigenen Stil. Irgendwo zwischen Hendrix\, SRV undTaste zusammen mit einem Schuss Rock `n` Roll findet das Powertrio zu seinem Sound mit einem ganz eigenen „Bandspirit“! Dazu trägt auch die Philosophie bei\, sich gegenseitig nahezu alle kreativen Freiheiten zu lassen.Das führt immer wieder zu ganz neu entstehenden Interpretationen ihrer Songs.Das Programm bietetneben einigen Covernummern (Voodoo Child\, Mary had a little lamb\, Rollin` and Tumblin`…) überwiegendEigenkompositionen u.a. mit durchaus komplexer Struktur\, die auch vermeintlich höheren musikalischen Ansprüchen ohne weiteresgenügen.Die erstklassige Live-Performance von Blues Controlführte u.a. dazu\, dass die Band bereits bei so international namhaften Bluesgrößen wieHenrik Freischlader\, Vdelli (Australien)\, Tony Vega Band (Texas)\, Kamchatka (Schweden) Eric Steckel (USA)etc. zum Support eingeladen wurde!Im Mai 2010 und 2013 stand Christian Meidinger sogar mit dem „Killergitarristen“ Lance Lopez aus Texas auf der Bühne zur Jam Session im Bahnhof Straubin
URL:https://haus111.de/event/blues-control/
END:VEVENT
BEGIN:VEVENT
DTSTART;TZID=Europe/Berlin:20241130T190000
DTEND;TZID=Europe/Berlin:20241130T233000
DTSTAMP:20260425T170847
CREATED:20240525T180845Z
LAST-MODIFIED:20241111T143135Z
UID:1931-1732993200-1733009400@haus111.de
SUMMARY:Bottom Of This
DESCRIPTION:Du musst nicht bei jedem Musik-Trend mitlaufen…wir bieten Dir Alternativen! \n„Bottom Of This“ – purer\, fetter\, anspruchsvoller Sound abseits des Mainstream. Diesem Credo gehen die 5 Musiker aus Bayern „auf den Grund“ und vereinen dabei eigene Kompositionen mit Meisterwerken von Gitarrenlegenden wie Joe Bonamassa\, Stevie Ray Vaughan\, Gary Moore oder John Mayer. Energiegeladen\, fordernd\, aber auch gefühlvoll nehmen „Bottom Of This“ den Zuhörer mit auf eine Reise durch die Straßen des Rock\, Blues\, Country\, Funk & Soul – Musik für wahre Liebhaber! \nLust bekommen auf echte Musik? – Let’s get to the „Bottom Of This“ \n 
URL:https://haus111.de/event/bottom-of-this/
END:VEVENT
END:VCALENDAR