BEGIN:VCALENDAR
VERSION:2.0
PRODID:-//Highwaycafe Haus 111 - ECPv6.15.20//NONSGML v1.0//EN
CALSCALE:GREGORIAN
METHOD:PUBLISH
X-ORIGINAL-URL:https://haus111.de
X-WR-CALDESC:Veranstaltungen für Highwaycafe Haus 111
REFRESH-INTERVAL;VALUE=DURATION:PT1H
X-Robots-Tag:noindex
X-PUBLISHED-TTL:PT1H
BEGIN:VTIMEZONE
TZID:Europe/Berlin
BEGIN:DAYLIGHT
TZOFFSETFROM:+0100
TZOFFSETTO:+0200
TZNAME:CEST
DTSTART:20230326T010000
END:DAYLIGHT
BEGIN:STANDARD
TZOFFSETFROM:+0200
TZOFFSETTO:+0100
TZNAME:CET
DTSTART:20231029T010000
END:STANDARD
BEGIN:DAYLIGHT
TZOFFSETFROM:+0100
TZOFFSETTO:+0200
TZNAME:CEST
DTSTART:20240331T010000
END:DAYLIGHT
BEGIN:STANDARD
TZOFFSETFROM:+0200
TZOFFSETTO:+0100
TZNAME:CET
DTSTART:20241027T010000
END:STANDARD
BEGIN:DAYLIGHT
TZOFFSETFROM:+0100
TZOFFSETTO:+0200
TZNAME:CEST
DTSTART:20250330T010000
END:DAYLIGHT
BEGIN:STANDARD
TZOFFSETFROM:+0200
TZOFFSETTO:+0100
TZNAME:CET
DTSTART:20251026T010000
END:STANDARD
END:VTIMEZONE
BEGIN:VEVENT
DTSTART;TZID=Europe/Berlin:20240203T210000
DTEND;TZID=Europe/Berlin:20240203T235900
DTSTAMP:20260426T063749
CREATED:20231218T145914Z
LAST-MODIFIED:20231218T145914Z
UID:1857-1706994000-1707004740@haus111.de
SUMMARY:The Kobra Kiss
DESCRIPTION:The Kobra Kiss
URL:https://haus111.de/event/the-kobra-kiss/
END:VEVENT
BEGIN:VEVENT
DTSTART;TZID=Europe/Berlin:20240209T190000
DTEND;TZID=Europe/Berlin:20240209T233000
DTSTAMP:20260426T063749
CREATED:20240119T144218Z
LAST-MODIFIED:20240119T144218Z
UID:1866-1707505200-1707521400@haus111.de
SUMMARY:Geschlossen
DESCRIPTION:Geschlossen
URL:https://haus111.de/event/geschlossen-8/
END:VEVENT
BEGIN:VEVENT
DTSTART;TZID=Europe/Berlin:20240210T190000
DTEND;TZID=Europe/Berlin:20240210T233000
DTSTAMP:20260426T063749
CREATED:20240119T144332Z
LAST-MODIFIED:20240119T144332Z
UID:1868-1707591600-1707607800@haus111.de
SUMMARY:Geschlossen
DESCRIPTION:Geschlossen
URL:https://haus111.de/event/geschlossen-9/
END:VEVENT
BEGIN:VEVENT
DTSTART;TZID=Europe/Berlin:20240217T210000
DTEND;TZID=Europe/Berlin:20240217T235900
DTSTAMP:20260426T063749
CREATED:20231218T145903Z
LAST-MODIFIED:20231218T145903Z
UID:1859-1708203600-1708214340@haus111.de
SUMMARY:Starkbierfest mit der 111er Band
DESCRIPTION:Die Haus 111 Band\, \nbestehend aus\nHeiner\, Luca\, Franzi\, Eva\, Jona und Klaus. \nEinige werden sie wiedererkennen aus anderen Bands. \n111er band orientiert sich am Rock der 60er\, 70er und 80er
URL:https://haus111.de/event/starkbierfest-mit-der-111er-band/
END:VEVENT
END:VCALENDAR