BEGIN:VCALENDAR
VERSION:2.0
PRODID:-//Highwaycafe Haus 111 - ECPv6.15.20//NONSGML v1.0//EN
CALSCALE:GREGORIAN
METHOD:PUBLISH
X-WR-CALNAME:Highwaycafe Haus 111
X-ORIGINAL-URL:https://haus111.de
X-WR-CALDESC:Veranstaltungen für Highwaycafe Haus 111
REFRESH-INTERVAL;VALUE=DURATION:PT1H
X-Robots-Tag:noindex
X-PUBLISHED-TTL:PT1H
BEGIN:VTIMEZONE
TZID:Europe/Berlin
BEGIN:DAYLIGHT
TZOFFSETFROM:+0100
TZOFFSETTO:+0200
TZNAME:CEST
DTSTART:20250330T010000
END:DAYLIGHT
BEGIN:STANDARD
TZOFFSETFROM:+0200
TZOFFSETTO:+0100
TZNAME:CET
DTSTART:20251026T010000
END:STANDARD
BEGIN:DAYLIGHT
TZOFFSETFROM:+0100
TZOFFSETTO:+0200
TZNAME:CEST
DTSTART:20260329T010000
END:DAYLIGHT
BEGIN:STANDARD
TZOFFSETFROM:+0200
TZOFFSETTO:+0100
TZNAME:CET
DTSTART:20261025T010000
END:STANDARD
BEGIN:DAYLIGHT
TZOFFSETFROM:+0100
TZOFFSETTO:+0200
TZNAME:CEST
DTSTART:20270328T010000
END:DAYLIGHT
BEGIN:STANDARD
TZOFFSETFROM:+0200
TZOFFSETTO:+0100
TZNAME:CET
DTSTART:20271031T010000
END:STANDARD
END:VTIMEZONE
BEGIN:VEVENT
DTSTART;TZID=Europe/Berlin:20260425T190000
DTEND;TZID=Europe/Berlin:20260425T233000
DTSTAMP:20260425T134609
CREATED:20221214T055707Z
LAST-MODIFIED:20250810T101321Z
UID:1734-1777143600-1777159800@haus111.de
SUMMARY:Old Folks
DESCRIPTION:OLD FOLKS\nvon wegen alt! \nO              =   ORIGINELL \nL              =        LOCKER \nD =      DAMNED GOOD!!! \n\n… und FOLKS steht für unsere \nFolk-Instrumentierung -100% akustisch: \nGitarre – Kontrabass – Akkordeon – \nastreiner mehrstimmiger Gesang. \n\n\nDamit hat sich’s dann aber auch schon mit Folk – wir \nspielen unsere eigenen Songs und Instrumentals – \nsowohl auf Englisch als auch auf Bairisch – und wenn wir \nin anderen Gewässern fischen\, dann nur von den \nBesten: Rolling Stones\, Sting\, Billy Joel\, Donovan\, Bob \nDylan\, Steppenwolf\, AC/DC\, Johnny Cash und wie sie \nalle heißen … \n\n\n150 Jahre Bühnenerfahrung lügen nicht – erworben im \nJazz (Boris Gammer)\, Bluegrass (Chambergrass)\, \nChanson (Trio Trikolore) und … und … und .. \n\n\n Die Band:      Sepp Frank voc. akk. bass \n                                                                                                                                                          Hans  Meier voc. git. \n                                                                                                                                                         Wolfgang Berger  voc. git. bass \n 
URL:https://haus111.de/event/old-folks/
END:VEVENT
END:VCALENDAR